BEGIN:VCALENDAR
PRODID:-//eluceo/ical//2.0/EN
VERSION:2.0
CALSCALE:GREGORIAN
BEGIN:VEVENT
UID:b70569098197bc68414873a33449f8d1
DTSTAMP:20260425T122108Z
SUMMARY:Soirée de la femme au Rotary 2025
DESCRIPTION:Site internet: http://www.golf7fontaines.be/\nConférencier(s):
  Guy-Bernard CADIERE - co-auteur avec le Dr Denis Mukwege de "Réparer les
  femmes" (Editions Mardaga)Freddy WILLEM - Rotary Action Group RAGAFEGEM 
  
URL:https://rotary2150.org/fr/agenda/show/81958
DTSTART;TZID=Europe/Zurich:20250308T190000
DTEND;TZID=Europe/Zurich:20250308T230000
LOCATION:Golf Club des 7 Fontaines\, Chaussée d'Alsemberg 1021\, 1420 Brai
 ne l'Alleud\, Belgique
CATEGORIES:Rotary
END:VEVENT
BEGIN:VTIMEZONE
TZID:Europe/Zurich
BEGIN:STANDARD
DTSTART:20250308T190000
TZNAME:CET
TZOFFSETTO:+0100
TZOFFSETFROM:+0100
END:STANDARD
END:VTIMEZONE
END:VCALENDAR
