BEGIN:VCALENDAR
PRODID:-//eluceo/ical//2.0/EN
VERSION:2.0
CALSCALE:GREGORIAN
BEGIN:VEVENT
UID:f78d04e7b41483f2268fc4e560a8999b
DTSTAMP:20260423T013742Z
SUMMARY:Journée à Dinant - remise aux YEP inbounds des diplômes d'ambass
 adeurs de la Belgique francophone
DESCRIPTION:Site internet: https://www.google.com/maps/place/Salle+%22La+Ba
 ln%C3%A9aire%22/@50.2533906\,4.8975821\,15z/data=!3m1!4b1!4m6!3m5!1s0x47c1
 bffb17a309b5:0x1aa641fc09694785!8m2!3d50.2533783!4d4.916036!16s%2Fg%2F11f0
 8hs941\nConférencier(s): Pascal Grosse DG d2160\, Pascale Delcominette\, 
 Etienne Bailly DG d2150 
URL:https://jeunesse.rotary2150.org/fr/agenda/show/58905
DTSTART;TZID=Europe/Zurich:20230603T090000
DTEND;TZID=Europe/Zurich:20230603T140000
LOCATION:Salle Balnéaire\, Dinant
CATEGORIES:Rotary
END:VEVENT
BEGIN:VTIMEZONE
TZID:Europe/Zurich
BEGIN:DAYLIGHT
DTSTART:20230603T090000
TZNAME:CEST
TZOFFSETTO:+0200
TZOFFSETFROM:+0200
END:DAYLIGHT
END:VTIMEZONE
END:VCALENDAR
